BEGIN:VCALENDAR
VERSION:2.0
PRODID:Imitheme.com 
BEGIN:VEVENT
UID:20260424T102422430122352
DTSTAMP;TZID=UTC:2026-04-24 10:24:22
DTSTART;TZID=America/Los_Angeles:20260425T000000
DTEND;TZID=America/Los_Angeles:20260425T000000
SUMMARY:Ciné club Hors-champ: histoire d'échecs
LOCATION:
DESCRIPTION:
URL:https://centreafrika.com/eventer/cine-club-hors-champ-histoire-dechecs/
END:VEVENT
END:VCALENDAR
